BEGIN:VCALENDAR
VERSION:2.0
BEGIN:VEVENT
URL:https://offbeat.oztix.com.au/outlet/event/84fba086-ff42-45e4-9df0-b1a69eb3fa76
DTSTART:20260620T083000Z
DTEND:20260620T083000Z
SUMMARY:Teardrops on my Dildo; The Marathon Edition; Vanessa Larry Mitchell
DESCRIPTION:Event details: https://offbeat.oztix.com.au/outlet/event/84fba086-ff42-45e4-9df0-b1a69eb3fa76
LOCATION:Seaview Tavern (Woolgoolga, NSW)
END:VEVENT
END:VCALENDAR